Package: BioCartaImage Version: 1.6.0 Command: /Library/Frameworks/R.framework/Resources/bin/R CMD INSTALL BioCartaImage StartedAt: 2025-10-13 15:09:35 -0400 (Mon, 13 Oct 2025) EndedAt: 2025-10-13 15:09:38 -0400 (Mon, 13 Oct 2025) EllapsedTime: 3.5 seconds RetCode: 0 Status: OK