Package: BindingSiteFinder Version: 2.6.0 Command: /home/biocbuild/bbs-3.21-bioc/R/bin/R CMD build --keep-empty-dirs --no-resave-data BindingSiteFinder StartedAt: 2025-10-15 16:24:04 -0400 (Wed, 15 Oct 2025) EndedAt: 2025-10-15 16:26:52 -0400 (Wed, 15 Oct 2025) EllapsedTime: 167.2 seconds RetCode: 0 Status: OK PackageFile: BindingSiteFinder_2.6.0.tar.gz PackageFileSize: 2.771 MiB