Package: BindingSiteFinder Version: 2.6.0 Command: /home/biocbuild/R/R/bin/R CMD INSTALL BindingSiteFinder StartedAt: 2025-10-13 20:54:27 -0000 (Mon, 13 Oct 2025) EndedAt: 2025-10-13 20:55:31 -0000 (Mon, 13 Oct 2025) EllapsedTime: 64.7 seconds RetCode: 0 Status: OK