Package: BindingSiteFinder Version: 2.6.0 Command: /home/biocbuild/R/R/bin/R CMD build --keep-empty-dirs --no-resave-data BindingSiteFinder StartedAt: 2025-10-13 23:03:26 -0000 (Mon, 13 Oct 2025) EndedAt: 2025-10-13 23:06:14 -0000 (Mon, 13 Oct 2025) EllapsedTime: 168.0 seconds RetCode: 1 Status: ERROR PackageFile: None PackageFileSize: NA