Package: BiSeq Version: 1.48.1 Command: /home/biocbuild/R/R/bin/R CMD INSTALL BiSeq StartedAt: 2025-10-13 20:43:31 -0000 (Mon, 13 Oct 2025) EndedAt: 2025-10-13 20:44:31 -0000 (Mon, 13 Oct 2025) EllapsedTime: 59.6 seconds RetCode: 0 Status: OK