Package: BiSeq Version: 1.48.1 Command: /Library/Frameworks/R.framework/Resources/bin/R CMD INSTALL BiSeq StartedAt: 2025-10-13 16:40:51 -0400 (Mon, 13 Oct 2025) EndedAt: 2025-10-13 16:41:40 -0400 (Mon, 13 Oct 2025) EllapsedTime: 48.6 seconds RetCode: 0 Status: OK