Package: BeadDataPackR Version: 1.60.0 Command: /home/biocbuild/bbs-3.21-bioc/R/bin/R CMD build --keep-empty-dirs --no-resave-data BeadDataPackR StartedAt: 2025-10-15 16:20:58 -0400 (Wed, 15 Oct 2025) EndedAt: 2025-10-15 16:21:04 -0400 (Wed, 15 Oct 2025) EllapsedTime: 6.0 seconds RetCode: 0 Status: OK PackageFile: BeadDataPackR_1.60.0.tar.gz PackageFileSize: 235.8 KiB