Package: BeadDataPackR Version: 1.60.0 Command: /home/biocbuild/R/R/bin/R CMD build --keep-empty-dirs --no-resave-data BeadDataPackR StartedAt: 2025-10-13 22:54:58 -0000 (Mon, 13 Oct 2025) EndedAt: 2025-10-13 22:55:05 -0000 (Mon, 13 Oct 2025) EllapsedTime: 7.0 seconds RetCode: 0 Status: OK PackageFile: BeadDataPackR_1.60.0.tar.gz PackageFileSize: 229.8 KiB