Package: BatchSVG Version: 1.0.0 Command: /home/biocbuild/bbs-3.21-bioc/R/bin/R CMD INSTALL BatchSVG StartedAt: 2025-10-15 15:53:52 -0400 (Wed, 15 Oct 2025) EndedAt: 2025-10-15 15:54:18 -0400 (Wed, 15 Oct 2025) EllapsedTime: 25.8 seconds RetCode: 0 Status: OK