Package: BatchSVG Version: 1.0.0 Command: /home/biocbuild/bbs-3.21-bioc/R/bin/R CMD build --keep-empty-dirs --no-resave-data BatchSVG StartedAt: 2025-10-15 16:17:59 -0400 (Wed, 15 Oct 2025) EndedAt: 2025-10-15 16:20:50 -0400 (Wed, 15 Oct 2025) EllapsedTime: 171.1 seconds RetCode: 0 Status: OK PackageFile: BatchSVG_1.0.0.tar.gz PackageFileSize: 1.541 MiB