Package: BatchSVG Version: 1.0.0 Command: /Library/Frameworks/R.framework/Resources/bin/R CMD build --keep-empty-dirs --no-resave-data BatchSVG StartedAt: 2025-10-13 19:39:29 -0400 (Mon, 13 Oct 2025) EndedAt: 2025-10-13 19:42:33 -0400 (Mon, 13 Oct 2025) EllapsedTime: 183.9 seconds RetCode: 0 Status: OK PackageFile: BatchSVG_1.0.0.tar.gz PackageFileSize: 1.689 MiB