Package: BatchSVG Version: 1.0.0 Command: rm -rf BatchSVG.buildbin-libdir && mkdir BatchSVG.buildbin-libdir && /Users/biocbuild/BBS/utils/build-universal.sh BatchSVG_1.0.0.tar.gz /Library/Frameworks/R.framework/Resources/bin/R BatchSVG.buildbin-libdir StartedAt: 2025-10-15 17:30:49 -0400 (Wed, 15 Oct 2025) EndedAt: 2025-10-15 17:31:26 -0400 (Wed, 15 Oct 2025) EllapsedTime: 36.3 seconds RetCode: 0 Status: OK PackageFile: BatchSVG_1.0.0.tgz PackageFileSize: 1.715 MiB