Package: BatchQC Version: 2.4.0 Command: /home/biocbuild/bbs-3.21-bioc/R/bin/R CMD INSTALL BatchQC StartedAt: 2025-10-15 15:54:53 -0400 (Wed, 15 Oct 2025) EndedAt: 2025-10-15 15:55:31 -0400 (Wed, 15 Oct 2025) EllapsedTime: 37.7 seconds RetCode: 0 Status: OK