Package: BatchQC Version: 2.4.0 Command: /home/biocbuild/bbs-3.21-bioc/R/bin/R CMD build --keep-empty-dirs --no-resave-data BatchQC StartedAt: 2025-10-15 16:17:55 -0400 (Wed, 15 Oct 2025) EndedAt: 2025-10-15 16:19:07 -0400 (Wed, 15 Oct 2025) EllapsedTime: 72.1 seconds RetCode: 0 Status: OK PackageFile: BatchQC_2.4.0.tar.gz PackageFileSize: 3.616 MiB