Package: BatchQC Version: 2.4.0 Command: /home/biocbuild/R/R/bin/R CMD INSTALL BatchQC StartedAt: 2025-10-13 21:15:24 -0000 (Mon, 13 Oct 2025) EndedAt: 2025-10-13 21:16:19 -0000 (Mon, 13 Oct 2025) EllapsedTime: 55.0 seconds RetCode: 0 Status: OK