Package: BatchQC Version: 2.4.0 Command: rm -rf BatchQC.buildbin-libdir && mkdir BatchQC.buildbin-libdir && /Users/biocbuild/BBS/utils/build-universal.sh BatchQC_2.4.0.tar.gz /Library/Frameworks/R.framework/Resources/bin/R BatchQC.buildbin-libdir StartedAt: 2025-10-15 17:30:48 -0400 (Wed, 15 Oct 2025) EndedAt: 2025-10-15 17:31:40 -0400 (Wed, 15 Oct 2025) EllapsedTime: 52.1 seconds RetCode: 0 Status: OK PackageFile: BatchQC_2.4.0.tgz PackageFileSize: 3.8 MiB