Package: BasicSTARRseq Version: 1.36.0 Command: /home/biocbuild/bbs-3.21-bioc/R/bin/R CMD INSTALL BasicSTARRseq StartedAt: 2025-10-15 15:24:37 -0400 (Wed, 15 Oct 2025) EndedAt: 2025-10-15 15:25:02 -0400 (Wed, 15 Oct 2025) EllapsedTime: 25.3 seconds RetCode: 0 Status: OK