Package: BasicSTARRseq Version: 1.36.0 Command: /home/biocbuild/bbs-3.21-bioc/R/bin/R CMD build --keep-empty-dirs --no-resave-data BasicSTARRseq StartedAt: 2025-10-15 16:17:18 -0400 (Wed, 15 Oct 2025) EndedAt: 2025-10-15 16:17:55 -0400 (Wed, 15 Oct 2025) EllapsedTime: 37.0 seconds RetCode: 0 Status: OK PackageFile: BasicSTARRseq_1.36.0.tar.gz PackageFileSize: 552.5 KiB