Package: BasicSTARRseq Version: 1.36.0 Command: /Library/Frameworks/R.framework/Resources/bin/R CMD build --keep-empty-dirs --no-resave-data BasicSTARRseq StartedAt: 2025-04-21 16:00:14 -0400 (Mon, 21 Apr 2025) EndedAt: 2025-04-21 16:01:00 -0400 (Mon, 21 Apr 2025) EllapsedTime: 45.7 seconds RetCode: 0 Status: OK PackageFile: BasicSTARRseq_1.36.0.tar.gz PackageFileSize: 551.3 KiB