Package: BasicSTARRseq Version: 1.36.0 Command: /home/biocbuild/R/R/bin/R CMD INSTALL BasicSTARRseq StartedAt: 2025-10-13 20:39:16 -0000 (Mon, 13 Oct 2025) EndedAt: 2025-10-13 20:39:53 -0000 (Mon, 13 Oct 2025) EllapsedTime: 36.4 seconds RetCode: 0 Status: OK