Package: BasicSTARRseq Version: 1.36.0 Command: /Library/Frameworks/R.framework/Resources/bin/R CMD INSTALL BasicSTARRseq StartedAt: 2025-10-13 16:37:32 -0400 (Mon, 13 Oct 2025) EndedAt: 2025-10-13 16:38:03 -0400 (Mon, 13 Oct 2025) EllapsedTime: 30.8 seconds RetCode: 0 Status: OK