Package: BasicSTARRseq Version: 1.36.0 Command: /Library/Frameworks/R.framework/Resources/bin/R CMD build --keep-empty-dirs --no-resave-data BasicSTARRseq StartedAt: 2025-10-13 19:36:26 -0400 (Mon, 13 Oct 2025) EndedAt: 2025-10-13 19:37:16 -0400 (Mon, 13 Oct 2025) EllapsedTime: 49.5 seconds RetCode: 0 Status: OK PackageFile: BasicSTARRseq_1.36.0.tar.gz PackageFileSize: 552 KiB