Package: Basic4Cseq Version: 1.44.0 Command: /home/biocbuild/bbs-3.21-bioc/R/bin/R CMD INSTALL Basic4Cseq StartedAt: 2025-10-15 15:32:12 -0400 (Wed, 15 Oct 2025) EndedAt: 2025-10-15 15:32:48 -0400 (Wed, 15 Oct 2025) EllapsedTime: 35.7 seconds RetCode: 0 Status: OK