Package: Basic4Cseq Version: 1.44.0 Command: /Library/Frameworks/R.framework/Resources/bin/R CMD INSTALL Basic4Cseq StartedAt: 2025-10-13 15:59:59 -0400 (Mon, 13 Oct 2025) EndedAt: 2025-10-13 16:01:15 -0400 (Mon, 13 Oct 2025) EllapsedTime: 75.4 seconds RetCode: 0 Status: OK