Package: Basic4Cseq Version: 1.44.0 Command: /home/biocbuild/R/R/bin/R CMD INSTALL Basic4Cseq StartedAt: 2025-10-13 20:47:59 -0000 (Mon, 13 Oct 2025) EndedAt: 2025-10-13 20:48:50 -0000 (Mon, 13 Oct 2025) EllapsedTime: 51.0 seconds RetCode: 0 Status: OK