Package: Basic4Cseq Version: 1.44.0 Command: /home/biocbuild/R/R/bin/R CMD build --keep-empty-dirs --no-resave-data Basic4Cseq StartedAt: 2025-10-13 22:45:55 -0000 (Mon, 13 Oct 2025) EndedAt: 2025-10-13 22:47:09 -0000 (Mon, 13 Oct 2025) EllapsedTime: 74.0 seconds RetCode: 0 Status: OK PackageFile: Basic4Cseq_1.44.0.tar.gz PackageFileSize: 381.5 KiB