Package: Basic4Cseq Version: 1.44.0 Command: /Library/Frameworks/R.framework/Resources/bin/R CMD build --keep-empty-dirs --no-resave-data Basic4Cseq StartedAt: 2025-10-13 19:34:17 -0400 (Mon, 13 Oct 2025) EndedAt: 2025-10-13 19:35:28 -0400 (Mon, 13 Oct 2025) EllapsedTime: 71.2 seconds RetCode: 0 Status: OK PackageFile: Basic4Cseq_1.44.0.tar.gz PackageFileSize: 384.5 KiB