Package: BaseSpaceR Version: 1.52.0 Command: /Library/Frameworks/R.framework/Resources/bin/R CMD INSTALL BaseSpaceR StartedAt: 2025-10-13 15:08:13 -0400 (Mon, 13 Oct 2025) EndedAt: 2025-10-13 15:08:35 -0400 (Mon, 13 Oct 2025) EllapsedTime: 22.0 seconds RetCode: 0 Status: OK