Package: BaseSpaceR Version: 1.52.0 Command: /home/biocbuild/R/R/bin/R CMD INSTALL BaseSpaceR StartedAt: 2025-10-13 20:14:16 -0000 (Mon, 13 Oct 2025) EndedAt: 2025-10-13 20:14:33 -0000 (Mon, 13 Oct 2025) EllapsedTime: 17.1 seconds RetCode: 0 Status: OK