Package: BaseSpaceR Version: 1.52.0 Command: /Library/Frameworks/R.framework/Resources/bin/R CMD build --keep-empty-dirs --no-resave-data BaseSpaceR StartedAt: 2025-10-13 19:33:55 -0400 (Mon, 13 Oct 2025) EndedAt: 2025-10-13 19:34:17 -0400 (Mon, 13 Oct 2025) EllapsedTime: 21.6 seconds RetCode: 0 Status: OK PackageFile: BaseSpaceR_1.52.0.tar.gz PackageFileSize: 581.2 KiB