Package: BadRegionFinder Version: 1.36.0 Command: /home/biocbuild/bbs-3.21-bioc/R/bin/R CMD build --keep-empty-dirs --no-resave-data BadRegionFinder StartedAt: 2025-10-15 16:15:05 -0400 (Wed, 15 Oct 2025) EndedAt: 2025-10-15 16:16:20 -0400 (Wed, 15 Oct 2025) EllapsedTime: 75.1 seconds RetCode: 0 Status: OK PackageFile: BadRegionFinder_1.36.0.tar.gz PackageFileSize: 833.3 KiB