Package: BaalChIP Version: 1.34.0 Command: /home/biocbuild/R/R/bin/R CMD INSTALL BaalChIP StartedAt: 2025-10-13 20:39:16 -0000 (Mon, 13 Oct 2025) EndedAt: 2025-10-13 20:40:53 -0000 (Mon, 13 Oct 2025) EllapsedTime: 96.7 seconds RetCode: 0 Status: OK