Package: BREW3R.r Version: 1.4.0 Command: /home/biocbuild/R/R/bin/R CMD INSTALL BREW3R.r StartedAt: 2025-10-13 20:29:36 -0000 (Mon, 13 Oct 2025) EndedAt: 2025-10-13 20:29:48 -0000 (Mon, 13 Oct 2025) EllapsedTime: 12.2 seconds RetCode: 0 Status: OK