Package: BOBaFIT Version: 1.12.0 Command: /home/biocbuild/R/R/bin/R CMD INSTALL BOBaFIT StartedAt: 2025-10-13 21:01:37 -0000 (Mon, 13 Oct 2025) EndedAt: 2025-10-13 21:02:50 -0000 (Mon, 13 Oct 2025) EllapsedTime: 72.5 seconds RetCode: 0 Status: OK