Package: BOBaFIT Version: 1.12.0 Command: /home/biocbuild/R/R/bin/R CMD build --keep-empty-dirs --no-resave-data BOBaFIT StartedAt: 2025-10-13 23:14:06 -0000 (Mon, 13 Oct 2025) EndedAt: 2025-10-13 23:16:34 -0000 (Mon, 13 Oct 2025) EllapsedTime: 148.0 seconds RetCode: 0 Status: OK PackageFile: BOBaFIT_1.12.0.tar.gz PackageFileSize: 2.543 MiB