Package: BLMA Version: 1.32.0 Command: /home/biocbuild/R/R/bin/R CMD INSTALL BLMA StartedAt: 2025-10-13 20:43:30 -0000 (Mon, 13 Oct 2025) EndedAt: 2025-10-13 20:43:58 -0000 (Mon, 13 Oct 2025) EllapsedTime: 28.2 seconds RetCode: 0 Status: OK