Package: BEAT Version: 1.46.0 Command: /home/biocbuild/R/R/bin/R CMD INSTALL BEAT StartedAt: 2025-10-13 21:08:27 -0000 (Mon, 13 Oct 2025) EndedAt: 2025-10-13 21:09:18 -0000 (Mon, 13 Oct 2025) EllapsedTime: 51.6 seconds RetCode: 0 Status: OK