Package: BEAT Version: 1.46.0 Command: /home/biocbuild/R/R/bin/R CMD build --keep-empty-dirs --no-resave-data BEAT StartedAt: 2025-10-13 22:55:52 -0000 (Mon, 13 Oct 2025) EndedAt: 2025-10-13 22:57:46 -0000 (Mon, 13 Oct 2025) EllapsedTime: 114.0 seconds RetCode: 0 Status: OK PackageFile: BEAT_1.46.0.tar.gz PackageFileSize: 3.276 MiB