Package: BBCAnalyzer Version: 1.38.0 Command: /home/biocbuild/bbs-3.21-bioc/R/bin/R CMD INSTALL BBCAnalyzer StartedAt: 2025-10-15 15:40:08 -0400 (Wed, 15 Oct 2025) EndedAt: 2025-10-15 15:40:51 -0400 (Wed, 15 Oct 2025) EllapsedTime: 43.3 seconds RetCode: 0 Status: OK