Package: BBCAnalyzer Version: 1.38.0 Command: /home/biocbuild/bbs-3.21-bioc/R/bin/R CMD build --keep-empty-dirs --no-resave-data BBCAnalyzer StartedAt: 2025-10-15 16:19:00 -0400 (Wed, 15 Oct 2025) EndedAt: 2025-10-15 16:25:42 -0400 (Wed, 15 Oct 2025) EllapsedTime: 401.3 seconds RetCode: 0 Status: OK PackageFile: BBCAnalyzer_1.38.0.tar.gz PackageFileSize: 2.202 MiB