Package: BBCAnalyzer Version: 1.38.0 Command: /home/biocbuild/R/R/bin/R CMD INSTALL BBCAnalyzer StartedAt: 2025-10-13 20:56:29 -0000 (Mon, 13 Oct 2025) EndedAt: 2025-10-13 20:57:32 -0000 (Mon, 13 Oct 2025) EllapsedTime: 63.0 seconds RetCode: 0 Status: OK