Package: BBCAnalyzer Version: 1.38.0 Command: /home/biocbuild/R/R/bin/R CMD build --keep-empty-dirs --no-resave-data BBCAnalyzer StartedAt: 2025-10-13 22:52:13 -0000 (Mon, 13 Oct 2025) EndedAt: 2025-10-13 23:02:14 -0000 (Mon, 13 Oct 2025) EllapsedTime: 601.1 seconds RetCode: 0 Status: OK PackageFile: BBCAnalyzer_1.38.0.tar.gz PackageFileSize: 2.195 MiB