Package: BBCAnalyzer Version: 1.38.0 Command: rm -rf BBCAnalyzer.buildbin-libdir && mkdir BBCAnalyzer.buildbin-libdir && /Users/biocbuild/BBS/utils/build-universal.sh BBCAnalyzer_1.38.0.tar.gz /Library/Frameworks/R.framework/Resources/bin/R BBCAnalyzer.buildbin-libdir StartedAt: 2025-10-15 17:31:39 -0400 (Wed, 15 Oct 2025) EndedAt: 2025-10-15 17:32:34 -0400 (Wed, 15 Oct 2025) EllapsedTime: 55.4 seconds RetCode: 0 Status: OK PackageFile: BBCAnalyzer_1.38.0.tgz PackageFileSize: 2.06 MiB