Package: BASiCStan Version: 1.10.0 Command: /home/biocbuild/R/R/bin/R CMD build --keep-empty-dirs --no-resave-data BASiCStan StartedAt: 2025-10-13 22:47:09 -0000 (Mon, 13 Oct 2025) EndedAt: 2025-10-13 22:54:28 -0000 (Mon, 13 Oct 2025) EllapsedTime: 439.1 seconds RetCode: 0 Status: OK PackageFile: BASiCStan_1.10.0.tar.gz PackageFileSize: 62.62 KiB