Package: BASiCStan Version: 1.10.0 Command: /Library/Frameworks/R.framework/Resources/bin/R CMD INSTALL BASiCStan StartedAt: 2025-10-13 18:13:47 -0400 (Mon, 13 Oct 2025) EndedAt: 2025-10-13 18:17:32 -0400 (Mon, 13 Oct 2025) EllapsedTime: 225.7 seconds RetCode: 0 Status: OK