Package: BASiCStan Version: 1.10.0 Command: rm -rf BASiCStan.buildbin-libdir && mkdir BASiCStan.buildbin-libdir && /Users/biocbuild/BBS/utils/build-universal.sh BASiCStan_1.10.0.tar.gz /Library/Frameworks/R.framework/Resources/bin/R BASiCStan.buildbin-libdir StartedAt: 2025-10-15 17:30:06 -0400 (Wed, 15 Oct 2025) EndedAt: 2025-10-15 17:34:16 -0400 (Wed, 15 Oct 2025) EllapsedTime: 249.3 seconds RetCode: 0 Status: OK PackageFile: BASiCStan_1.10.0.tgz PackageFileSize: 1006 KiB