Package: BASiCS Version: 2.20.0 Command: /home/biocbuild/bbs-3.21-bioc/R/bin/R CMD INSTALL BASiCS StartedAt: 2025-10-15 15:54:47 -0400 (Wed, 15 Oct 2025) EndedAt: 2025-10-15 15:56:01 -0400 (Wed, 15 Oct 2025) EllapsedTime: 73.7 seconds RetCode: 0 Status: OK