Package: BASiCS Version: 2.20.0 Command: /home/biocbuild/bbs-3.21-bioc/R/bin/R CMD build --keep-empty-dirs --no-resave-data BASiCS StartedAt: 2025-10-15 16:16:40 -0400 (Wed, 15 Oct 2025) EndedAt: 2025-10-15 16:18:32 -0400 (Wed, 15 Oct 2025) EllapsedTime: 112.1 seconds RetCode: 0 Status: OK PackageFile: BASiCS_2.20.0.tar.gz PackageFileSize: 3.199 MiB