Package: BASiCS Version: 2.20.0 Command: /Library/Frameworks/R.framework/Resources/bin/R CMD build --keep-empty-dirs --no-resave-data BASiCS StartedAt: 2025-10-13 17:11:52 -0400 (Mon, 13 Oct 2025) EndedAt: 2025-10-13 17:16:11 -0400 (Mon, 13 Oct 2025) EllapsedTime: 258.9 seconds RetCode: 0 Status: OK PackageFile: BASiCS_2.20.0.tar.gz PackageFileSize: 3.302 MiB