Package: BASiCS Version: 2.20.0 Command: rm -rf BASiCS.buildbin-libdir && mkdir BASiCS.buildbin-libdir && /Users/biocbuild/BBS/utils/build-universal.sh BASiCS_2.20.0.tar.gz /Library/Frameworks/R.framework/Resources/bin/R BASiCS.buildbin-libdir StartedAt: 2025-10-14 12:52:38 -0400 (Tue, 14 Oct 2025) EndedAt: 2025-10-14 12:55:21 -0400 (Tue, 14 Oct 2025) EllapsedTime: 163.0 seconds RetCode: 0 Status: OK PackageFile: BASiCS_2.20.0.tgz PackageFileSize: 3.935 MiB